BEGIN:VCALENDAR
VERSION:2.0
PRODID:-//TSA &quot;Grün-Gold&quot; - ECPv6.15.20//NONSGML v1.0//EN
CALSCALE:GREGORIAN
METHOD:PUBLISH
X-ORIGINAL-URL:https://tanzsport-eberswalde.de
X-WR-CALDESC:Veranstaltungen für TSA &quot;Grün-Gold&quot;
REFRESH-INTERVAL;VALUE=DURATION:PT1H
X-Robots-Tag:noindex
X-PUBLISHED-TTL:PT1H
BEGIN:VTIMEZONE
TZID:Europe/Berlin
BEGIN:DAYLIGHT
TZOFFSETFROM:+0100
TZOFFSETTO:+0200
TZNAME:CEST
DTSTART:20230326T010000
END:DAYLIGHT
BEGIN:STANDARD
TZOFFSETFROM:+0200
TZOFFSETTO:+0100
TZNAME:CET
DTSTART:20231029T010000
END:STANDARD
BEGIN:DAYLIGHT
TZOFFSETFROM:+0100
TZOFFSETTO:+0200
TZNAME:CEST
DTSTART:20240331T010000
END:DAYLIGHT
BEGIN:STANDARD
TZOFFSETFROM:+0200
TZOFFSETTO:+0100
TZNAME:CET
DTSTART:20241027T010000
END:STANDARD
BEGIN:DAYLIGHT
TZOFFSETFROM:+0100
TZOFFSETTO:+0200
TZNAME:CEST
DTSTART:20250330T010000
END:DAYLIGHT
BEGIN:STANDARD
TZOFFSETFROM:+0200
TZOFFSETTO:+0100
TZNAME:CET
DTSTART:20251026T010000
END:STANDARD
END:VTIMEZONE
BEGIN:VEVENT
DTSTART;TZID=Europe/Berlin:20241019T110000
DTEND;TZID=Europe/Berlin:20241019T180000
DTSTAMP:20260426T012609
CREATED:20240606T161534Z
LAST-MODIFIED:20240715T181725Z
UID:2709-1729335600-1729360800@tanzsport-eberswalde.de
SUMMARY:Eberswalder Tanzturnier
DESCRIPTION:Parkett 17x11\n\n\n\ngeplante Turniere:\n\n\nMas III B Lat\n\nMas III A Lat\n\n\nMas II B Lat\n\n\nMas II A Lat\n\n\nMas III D Std\n\n\nMas III C Std\n\n\nMas IV A Std\n\n\nMas II D Std\n\n\nMas II C Std\n\n\nMas III B Std\n\n\nMas III A Std\n\n\nMas II B Std\n\n\nMas IV S Std\n\n\nMas III S Std
URL:https://tanzsport-eberswalde.de/event/eberswalder-tanzturnier/
LOCATION:Tanzsportzentrum\, Finowfurter Ring 41\, Schorfheide\, Brandenburg\, 16244\, Deutschland
END:VEVENT
END:VCALENDAR