BEGIN:VCALENDAR
VERSION:2.0
PRODID:-//TSA &quot;Grün-Gold&quot; - ECPv6.15.20//NONSGML v1.0//EN
CALSCALE:GREGORIAN
METHOD:PUBLISH
X-ORIGINAL-URL:https://tanzsport-eberswalde.de
X-WR-CALDESC:Veranstaltungen für TSA &quot;Grün-Gold&quot;
REFRESH-INTERVAL;VALUE=DURATION:PT1H
X-Robots-Tag:noindex
X-PUBLISHED-TTL:PT1H
BEGIN:VTIMEZONE
TZID:Europe/Berlin
BEGIN:DAYLIGHT
TZOFFSETFROM:+0100
TZOFFSETTO:+0200
TZNAME:CEST
DTSTART:20210328T010000
END:DAYLIGHT
BEGIN:STANDARD
TZOFFSETFROM:+0200
TZOFFSETTO:+0100
TZNAME:CET
DTSTART:20211031T010000
END:STANDARD
BEGIN:DAYLIGHT
TZOFFSETFROM:+0100
TZOFFSETTO:+0200
TZNAME:CEST
DTSTART:20220327T010000
END:DAYLIGHT
BEGIN:STANDARD
TZOFFSETFROM:+0200
TZOFFSETTO:+0100
TZNAME:CET
DTSTART:20221030T010000
END:STANDARD
BEGIN:DAYLIGHT
TZOFFSETFROM:+0100
TZOFFSETTO:+0200
TZNAME:CEST
DTSTART:20230326T010000
END:DAYLIGHT
BEGIN:STANDARD
TZOFFSETFROM:+0200
TZOFFSETTO:+0100
TZNAME:CET
DTSTART:20231029T010000
END:STANDARD
BEGIN:DAYLIGHT
TZOFFSETFROM:+0100
TZOFFSETTO:+0200
TZNAME:CEST
DTSTART:20240331T010000
END:DAYLIGHT
BEGIN:STANDARD
TZOFFSETFROM:+0200
TZOFFSETTO:+0100
TZNAME:CET
DTSTART:20241027T010000
END:STANDARD
BEGIN:DAYLIGHT
TZOFFSETFROM:+0100
TZOFFSETTO:+0200
TZNAME:CEST
DTSTART:20250330T010000
END:DAYLIGHT
BEGIN:STANDARD
TZOFFSETFROM:+0200
TZOFFSETTO:+0100
TZNAME:CET
DTSTART:20251026T010000
END:STANDARD
BEGIN:DAYLIGHT
TZOFFSETFROM:+0100
TZOFFSETTO:+0200
TZNAME:CEST
DTSTART:20260329T010000
END:DAYLIGHT
BEGIN:STANDARD
TZOFFSETFROM:+0200
TZOFFSETTO:+0100
TZNAME:CET
DTSTART:20261025T010000
END:STANDARD
BEGIN:DAYLIGHT
TZOFFSETFROM:+0100
TZOFFSETTO:+0200
TZNAME:CEST
DTSTART:20270328T010000
END:DAYLIGHT
BEGIN:STANDARD
TZOFFSETFROM:+0200
TZOFFSETTO:+0100
TZNAME:CET
DTSTART:20271031T010000
END:STANDARD
END:VTIMEZONE
BEGIN:VEVENT
DTSTART;TZID=Europe/Berlin:20260418T100000
DTEND;TZID=Europe/Berlin:20260418T210000
DTSTAMP:20260420T135708
CREATED:20260104T170707Z
LAST-MODIFIED:20260104T170707Z
UID:2841-1776506400-1776546000@tanzsport-eberswalde.de
SUMMARY:Eberswalder Tanzturnier
DESCRIPTION:
URL:https://tanzsport-eberswalde.de/event/eberswalder-tanzturnier-2/
LOCATION:Tanzsportzentrum\, Finowfurter Ring 41\, Schorfheide\, Brandenburg\, 16244\, Deutschland
END:VEVENT
BEGIN:VEVENT
DTSTART;TZID=Europe/Berlin:20260221T150000
DTEND;TZID=Europe/Berlin:20260221T170000
DTSTAMP:20260420T135708
CREATED:20260104T170356Z
LAST-MODIFIED:20260104T170356Z
UID:2839-1771686000-1771693200@tanzsport-eberswalde.de
SUMMARY:Discofox-Nachmittag für Fortgeschrittene
DESCRIPTION:
URL:https://tanzsport-eberswalde.de/event/discofox-nachmittag-fuer-fortgeschrittene/
LOCATION:Tanzsportzentrum\, Finowfurter Ring 41\, Schorfheide\, Brandenburg\, 16244\, Deutschland
END:VEVENT
BEGIN:VEVENT
DTSTART;TZID=Europe/Berlin:20260214T150000
DTEND;TZID=Europe/Berlin:20260214T170000
DTSTAMP:20260420T135708
CREATED:20260104T170140Z
LAST-MODIFIED:20260104T170440Z
UID:2837-1771081200-1771088400@tanzsport-eberswalde.de
SUMMARY:Discofox-Nachmittag für Einsteiger
DESCRIPTION:
URL:https://tanzsport-eberswalde.de/event/discofox-nachmittag-fuer-einsteiger/
LOCATION:Tanzsportzentrum\, Finowfurter Ring 41\, Schorfheide\, Brandenburg\, 16244\, Deutschland
END:VEVENT
BEGIN:VEVENT
DTSTART;TZID=Europe/Berlin:20260117T100000
DTEND;TZID=Europe/Berlin:20260117T170000
DTSTAMP:20260420T135708
CREATED:20251213T174543Z
LAST-MODIFIED:20251213T174543Z
UID:2834-1768644000-1768669200@tanzsport-eberswalde.de
SUMMARY:Breitensport-Tanzwettbewerb
DESCRIPTION:
URL:https://tanzsport-eberswalde.de/event/breitensport-tanzwettbewerb-3/
LOCATION:Tanzsportzentrum\, Finowfurter Ring 41\, Schorfheide\, Brandenburg\, 16244\, Deutschland
END:VEVENT
BEGIN:VEVENT
DTSTART;TZID=Europe/Berlin:20250222T150000
DTEND;TZID=Europe/Berlin:20250222T170000
DTSTAMP:20260420T135708
CREATED:20250105T094503Z
LAST-MODIFIED:20250105T094503Z
UID:2774-1740236400-1740243600@tanzsport-eberswalde.de
SUMMARY:Discofox-Nachmittag
DESCRIPTION:Fort­ge­schrit­tene \nZum Disco­fox sind auch sehr gerne “Nicht”-Mitglieder einge­la­den. Bitte an saube­res Schuh­werk denken!
URL:https://tanzsport-eberswalde.de/event/discofox-nachmittag-32/
LOCATION:Tanzsportzentrum\, Finowfurter Ring 41\, Schorfheide\, Brandenburg\, 16244\, Deutschland
END:VEVENT
BEGIN:VEVENT
DTSTART;TZID=Europe/Berlin:20250215T150000
DTEND;TZID=Europe/Berlin:20250215T170000
DTSTAMP:20260420T135709
CREATED:20250105T094401Z
LAST-MODIFIED:20250105T094415Z
UID:2771-1739631600-1739638800@tanzsport-eberswalde.de
SUMMARY:Discofox-Nachmittag
DESCRIPTION:Anfän­ger \nZum Disco­fox sind auch sehr gerne “Nicht”-Mitglieder einge­la­den. Bitte an saube­res Schuh­werk denken!
URL:https://tanzsport-eberswalde.de/event/discofox-nachmittag-31/
LOCATION:Tanzsportzentrum\, Finowfurter Ring 41\, Schorfheide\, Brandenburg\, 16244\, Deutschland
END:VEVENT
BEGIN:VEVENT
DTSTART;TZID=Europe/Berlin:20250118T100000
DTEND;TZID=Europe/Berlin:20250118T180000
DTSTAMP:20260420T135709
CREATED:20241208T183844Z
LAST-MODIFIED:20241208T183844Z
UID:2760-1737194400-1737223200@tanzsport-eberswalde.de
SUMMARY:Breitensport-Tanzwettbewerb
DESCRIPTION:
URL:https://tanzsport-eberswalde.de/event/breitensport-tanzwettbewerb-2/
LOCATION:Tanzsportzentrum\, Finowfurter Ring 41\, Schorfheide\, Brandenburg\, 16244\, Deutschland
END:VEVENT
BEGIN:VEVENT
DTSTART;TZID=Europe/Berlin:20241123T150000
DTEND;TZID=Europe/Berlin:20241123T170000
DTSTAMP:20260420T135709
CREATED:20240715T185910Z
LAST-MODIFIED:20240715T185910Z
UID:2724-1732374000-1732381200@tanzsport-eberswalde.de
SUMMARY:Discofox-Nachmittag
DESCRIPTION:Fort­ge­schrit­tene mit Ariane und Hartmut \nZum Disco­fox sind auch sehr gerne “Nicht”-Mitglieder einge­la­den. Bitte an saube­res Schuh­werk denken!
URL:https://tanzsport-eberswalde.de/event/discofox-nachmittag-30/
LOCATION:Tanzsportzentrum\, Finowfurter Ring 41\, Schorfheide\, Brandenburg\, 16244\, Deutschland
END:VEVENT
BEGIN:VEVENT
DTSTART;TZID=Europe/Berlin:20241026T150000
DTEND;TZID=Europe/Berlin:20241026T170000
DTSTAMP:20260420T135709
CREATED:20240715T185853Z
LAST-MODIFIED:20240715T185853Z
UID:2722-1729954800-1729962000@tanzsport-eberswalde.de
SUMMARY:Discofox-Nachmittag
DESCRIPTION:Fort­ge­schrit­tene mit Ariane und Hartmut \nZum Disco­fox sind auch sehr gerne “Nicht”-Mitglieder einge­la­den. Bitte an saube­res Schuh­werk denken!
URL:https://tanzsport-eberswalde.de/event/discofox-nachmittag-29/
LOCATION:Tanzsportzentrum\, Finowfurter Ring 41\, Schorfheide\, Brandenburg\, 16244\, Deutschland
END:VEVENT
BEGIN:VEVENT
DTSTART;TZID=Europe/Berlin:20241019T110000
DTEND;TZID=Europe/Berlin:20241019T180000
DTSTAMP:20260420T135709
CREATED:20240606T161534Z
LAST-MODIFIED:20240715T181725Z
UID:2709-1729335600-1729360800@tanzsport-eberswalde.de
SUMMARY:Eberswalder Tanzturnier
DESCRIPTION:Parkett 17x11\n\n\n\ngeplante Turniere:\n\n\nMas III B Lat\n\nMas III A Lat\n\n\nMas II B Lat\n\n\nMas II A Lat\n\n\nMas III D Std\n\n\nMas III C Std\n\n\nMas IV A Std\n\n\nMas II D Std\n\n\nMas II C Std\n\n\nMas III B Std\n\n\nMas III A Std\n\n\nMas II B Std\n\n\nMas IV S Std\n\n\nMas III S Std
URL:https://tanzsport-eberswalde.de/event/eberswalder-tanzturnier/
LOCATION:Tanzsportzentrum\, Finowfurter Ring 41\, Schorfheide\, Brandenburg\, 16244\, Deutschland
END:VEVENT
BEGIN:VEVENT
DTSTART;TZID=Europe/Berlin:20240921T150000
DTEND;TZID=Europe/Berlin:20240921T170000
DTSTAMP:20260420T135709
CREATED:20240715T185628Z
LAST-MODIFIED:20240715T185639Z
UID:2720-1726930800-1726938000@tanzsport-eberswalde.de
SUMMARY:Discofox-Nachmittag
DESCRIPTION:Anfän­ger (erste Schritte und Figuren) \nZum Disco­fox sind auch sehr gerne “Nicht”-Mitglieder einge­la­den. Bitte an saube­res Schuh­werk denken!
URL:https://tanzsport-eberswalde.de/event/discofox-nachmittag-28/
LOCATION:Tanzsportzentrum\, Finowfurter Ring 41\, Schorfheide\, Brandenburg\, 16244\, Deutschland
END:VEVENT
BEGIN:VEVENT
DTSTART;TZID=Europe/Berlin:20240525T150000
DTEND;TZID=Europe/Berlin:20240525T170000
DTSTAMP:20260420T135709
CREATED:20240407T081010Z
LAST-MODIFIED:20240407T081010Z
UID:2637-1716649200-1716656400@tanzsport-eberswalde.de
SUMMARY:Discofox-Nachmittag
DESCRIPTION:Fort­ge­schrit­tene mit Marcel \nZum Disco­fox sind auch sehr gerne “Nicht”-Mitglieder einge­la­den. Bitte an saube­res Schuh­werk denken!
URL:https://tanzsport-eberswalde.de/event/discofox-nachmittag-27/
LOCATION:Tanzsportzentrum\, Finowfurter Ring 41\, Schorfheide\, Brandenburg\, 16244\, Deutschland
END:VEVENT
BEGIN:VEVENT
DTSTART;TZID=Europe/Berlin:20240504T150000
DTEND;TZID=Europe/Berlin:20240504T170000
DTSTAMP:20260420T135709
CREATED:20240407T080919Z
LAST-MODIFIED:20240407T080919Z
UID:2635-1714834800-1714842000@tanzsport-eberswalde.de
SUMMARY:Discofox-Nachmittag
DESCRIPTION:Anfän­ger mit Marcel \nZum Disco­fox sind auch sehr gerne “Nicht”-Mitglieder einge­la­den. Bitte an saube­res Schuh­werk denken!
URL:https://tanzsport-eberswalde.de/event/discofox-nachmittag-26/
LOCATION:Tanzsportzentrum\, Finowfurter Ring 41\, Schorfheide\, Brandenburg\, 16244\, Deutschland
END:VEVENT
BEGIN:VEVENT
DTSTART;TZID=Europe/Berlin:20240317T150000
DTEND;TZID=Europe/Berlin:20240317T170000
DTSTAMP:20260420T135709
CREATED:20240118T141334Z
LAST-MODIFIED:20240204T105123Z
UID:2601-1710687600-1710694800@tanzsport-eberswalde.de
SUMMARY:Discofox-Nachmittag
DESCRIPTION:mit Ariane und Hartmut
URL:https://tanzsport-eberswalde.de/event/discofox-nachmittag-25/
LOCATION:Tanzsportzentrum\, Finowfurter Ring 41\, Schorfheide\, Brandenburg\, 16244\, Deutschland
END:VEVENT
BEGIN:VEVENT
DTSTART;TZID=Europe/Berlin:20240210T150000
DTEND;TZID=Europe/Berlin:20240210T170000
DTSTAMP:20260420T135709
CREATED:20240118T141240Z
LAST-MODIFIED:20240118T141411Z
UID:2599-1707577200-1707584400@tanzsport-eberswalde.de
SUMMARY:Discofox-Nachmittag
DESCRIPTION:mit Ariane und Hartmut
URL:https://tanzsport-eberswalde.de/event/discofox-nachmittag-24/
LOCATION:Tanzsportzentrum\, Finowfurter Ring 41\, Schorfheide\, Brandenburg\, 16244\, Deutschland
END:VEVENT
BEGIN:VEVENT
DTSTART;TZID=Europe/Berlin:20240120T100000
DTEND;TZID=Europe/Berlin:20240120T170000
DTSTAMP:20260420T135709
CREATED:20231127T084743Z
LAST-MODIFIED:20231127T084743Z
UID:2580-1705744800-1705770000@tanzsport-eberswalde.de
SUMMARY:Breitensport-Tanzwettbewerb
DESCRIPTION:
URL:https://tanzsport-eberswalde.de/event/breitensport-tanzwettbewerb/
LOCATION:Tanzsportzentrum\, Finowfurter Ring 41\, Schorfheide\, Brandenburg\, 16244\, Deutschland
END:VEVENT
BEGIN:VEVENT
DTSTART;TZID=Europe/Berlin:20231014T150000
DTEND;TZID=Europe/Berlin:20231014T170000
DTSTAMP:20260420T135709
CREATED:20230812T161431Z
LAST-MODIFIED:20230812T161521Z
UID:2548-1697295600-1697302800@tanzsport-eberswalde.de
SUMMARY:Discofox-Nachmittag
DESCRIPTION:mit Ariane und Hartmut
URL:https://tanzsport-eberswalde.de/event/disco-fox-nachmittag-2/
LOCATION:Tanzsportzentrum\, Finowfurter Ring 41\, Schorfheide\, Brandenburg\, 16244\, Deutschland
END:VEVENT
BEGIN:VEVENT
DTSTART;TZID=Europe/Berlin:20231007T100000
DTEND;TZID=Europe/Berlin:20231007T180000
DTSTAMP:20260420T135709
CREATED:20230928T161637Z
LAST-MODIFIED:20230928T161637Z
UID:2571-1696672800-1696701600@tanzsport-eberswalde.de
SUMMARY:16. Eberswalder Tanzturnier
DESCRIPTION:
URL:https://tanzsport-eberswalde.de/event/16-eberswalder-tanzturnier/
LOCATION:Tanzsportzentrum\, Finowfurter Ring 41\, Schorfheide\, Brandenburg\, 16244\, Deutschland
END:VEVENT
BEGIN:VEVENT
DTSTART;TZID=Europe/Berlin:20230930T150000
DTEND;TZID=Europe/Berlin:20230930T170000
DTSTAMP:20260420T135709
CREATED:20230712T201023Z
LAST-MODIFIED:20230712T201023Z
UID:2522-1696086000-1696093200@tanzsport-eberswalde.de
SUMMARY:Discofox-Nachmittag
DESCRIPTION:Aufbau­kurz für Anfän­ger mit Marcel… bitte an saubere Schuhe denken…
URL:https://tanzsport-eberswalde.de/event/discofox-nachmittag-23/
LOCATION:Tanzsportzentrum\, Finowfurter Ring 41\, Schorfheide\, Brandenburg\, 16244\, Deutschland
END:VEVENT
BEGIN:VEVENT
DTSTART;TZID=Europe/Berlin:20230923T150000
DTEND;TZID=Europe/Berlin:20230923T170000
DTSTAMP:20260420T135709
CREATED:20230712T200906Z
LAST-MODIFIED:20230712T200906Z
UID:2520-1695481200-1695488400@tanzsport-eberswalde.de
SUMMARY:Discofox-Nachmittag
DESCRIPTION:für Anfän­ger mit Marcel… bitte an saubere Schuhe denken…
URL:https://tanzsport-eberswalde.de/event/discofox-nachmittag-22/
LOCATION:Tanzsportzentrum\, Finowfurter Ring 41\, Schorfheide\, Brandenburg\, 16244\, Deutschland
END:VEVENT
BEGIN:VEVENT
DTSTART;TZID=Europe/Berlin:20230506T150000
DTEND;TZID=Europe/Berlin:20230506T170000
DTSTAMP:20260420T135709
CREATED:20230207T172719Z
LAST-MODIFIED:20230207T172719Z
UID:2297-1683385200-1683392400@tanzsport-eberswalde.de
SUMMARY:Discofox-Nachmittag
DESCRIPTION:mit Marcel
URL:https://tanzsport-eberswalde.de/event/discofox-nachmittag-21/
LOCATION:Tanzsportzentrum\, Finowfurter Ring 41\, Schorfheide\, Brandenburg\, 16244\, Deutschland
END:VEVENT
BEGIN:VEVENT
DTSTART;TZID=Europe/Berlin:20230415T150000
DTEND;TZID=Europe/Berlin:20230415T170000
DTSTAMP:20260420T135709
CREATED:20230117T170322Z
LAST-MODIFIED:20230117T170322Z
UID:2281-1681570800-1681578000@tanzsport-eberswalde.de
SUMMARY:Discofox-Nachmittag
DESCRIPTION:mit Ariane und Hartmut
URL:https://tanzsport-eberswalde.de/event/discofox-nachmittag-19/
LOCATION:Tanzsportzentrum\, Finowfurter Ring 41\, Schorfheide\, Brandenburg\, 16244\, Deutschland
END:VEVENT
BEGIN:VEVENT
DTSTART;TZID=Europe/Berlin:20230325T150000
DTEND;TZID=Europe/Berlin:20230325T170000
DTSTAMP:20260420T135709
CREATED:20230207T172625Z
LAST-MODIFIED:20230207T172625Z
UID:2295-1679756400-1679763600@tanzsport-eberswalde.de
SUMMARY:Discofox-Nachmittag
DESCRIPTION:mit Marcel
URL:https://tanzsport-eberswalde.de/event/discofox-nachmittag-20/
LOCATION:Tanzsportzentrum\, Finowfurter Ring 41\, Schorfheide\, Brandenburg\, 16244\, Deutschland
END:VEVENT
BEGIN:VEVENT
DTSTART;VALUE=DATE:20230318
DTEND;VALUE=DATE:20230319
DTSTAMP:20260420T135709
CREATED:20230207T172838Z
LAST-MODIFIED:20230207T172838Z
UID:2299-1679097600-1679183999@tanzsport-eberswalde.de
SUMMARY:Eberswalder Kinder & Jugend Turnier
DESCRIPTION:genauere Infor­ma­tio­nen folgen
URL:https://tanzsport-eberswalde.de/event/eberswalder-kinder-jugend-turnier/
LOCATION:Tanzsportzentrum\, Finowfurter Ring 41\, Schorfheide\, Brandenburg\, 16244\, Deutschland
END:VEVENT
BEGIN:VEVENT
DTSTART;TZID=Europe/Berlin:20230218T150000
DTEND;TZID=Europe/Berlin:20230218T170000
DTSTAMP:20260420T135709
CREATED:20230117T170234Z
LAST-MODIFIED:20230117T170234Z
UID:2279-1676732400-1676739600@tanzsport-eberswalde.de
SUMMARY:Discofox-Nachmittag
DESCRIPTION:mit Ariane und Hartmut
URL:https://tanzsport-eberswalde.de/event/discofox-nachmittag-18/
LOCATION:Tanzsportzentrum\, Finowfurter Ring 41\, Schorfheide\, Brandenburg\, 16244\, Deutschland
END:VEVENT
BEGIN:VEVENT
DTSTART;TZID=Europe/Berlin:20221210T150000
DTEND;TZID=Europe/Berlin:20221210T170000
DTSTAMP:20260420T135709
CREATED:20221106T131645Z
LAST-MODIFIED:20221106T131645Z
UID:2260-1670684400-1670691600@tanzsport-eberswalde.de
SUMMARY:Discofox-Nachmittag
DESCRIPTION:Advents-Disco­fox mit Marcel
URL:https://tanzsport-eberswalde.de/event/discofox-nachmittag-17/
LOCATION:Brandenburg
END:VEVENT
BEGIN:VEVENT
DTSTART;TZID=Europe/Berlin:20221105T150000
DTEND;TZID=Europe/Berlin:20221105T170000
DTSTAMP:20260420T135709
CREATED:20220826T064352Z
LAST-MODIFIED:20220826T064941Z
UID:2207-1667660400-1667667600@tanzsport-eberswalde.de
SUMMARY:Discofox-Nachmittag
DESCRIPTION:mit Marcel (Fort­ge­schrit­tene und Anfänger)
URL:https://tanzsport-eberswalde.de/event/discofox-nachmittag-16/
LOCATION:Tanzsportzentrum\, Finowfurter Ring 41\, Schorfheide\, Brandenburg\, 16244\, Deutschland
END:VEVENT
BEGIN:VEVENT
DTSTART;TZID=Europe/Berlin:20221001T150000
DTEND;TZID=Europe/Berlin:20221001T170000
DTSTAMP:20260420T135709
CREATED:20220826T064155Z
LAST-MODIFIED:20220826T064155Z
UID:2205-1664636400-1664643600@tanzsport-eberswalde.de
SUMMARY:Discofox-Nachmittag
DESCRIPTION:mit Ariane und Hart­mut (Fort­ge­schrit­tene)
URL:https://tanzsport-eberswalde.de/event/discofox-nachmittag-15/
LOCATION:Tanzsportzentrum\, Finowfurter Ring 41\, Schorfheide\, Brandenburg\, 16244\, Deutschland
END:VEVENT
BEGIN:VEVENT
DTSTART;TZID=Europe/Berlin:20220918T100000
DTEND;TZID=Europe/Berlin:20220918T160000
DTSTAMP:20260420T135709
CREATED:20220808T151954Z
LAST-MODIFIED:20220808T151954Z
UID:2184-1663495200-1663516800@tanzsport-eberswalde.de
SUMMARY:Breitensportwettbewerb 2022
DESCRIPTION:
URL:https://tanzsport-eberswalde.de/event/breitensportwettbewerb-2022/
LOCATION:Tanzsportzentrum\, Finowfurter Ring 41\, Schorfheide\, Brandenburg\, 16244\, Deutschland
END:VEVENT
BEGIN:VEVENT
DTSTART;TZID=Europe/Berlin:20220430T150000
DTEND;TZID=Europe/Berlin:20220430T170000
DTSTAMP:20260420T135709
CREATED:20220403T102500Z
LAST-MODIFIED:20220403T102500Z
UID:2150-1651330800-1651338000@tanzsport-eberswalde.de
SUMMARY:Discofox-Nachmittag
DESCRIPTION:mit Marcel und Clau­dia (Anfän­ger)
URL:https://tanzsport-eberswalde.de/event/discofox-nachmittag-14/
LOCATION:Tanzsportzentrum\, Finowfurter Ring 41\, Schorfheide\, Brandenburg\, 16244\, Deutschland
END:VEVENT
END:VCALENDAR