BEGIN:VCALENDAR
VERSION:2.0
PRODID:-//TSA &quot;Grün-Gold&quot; - ECPv6.15.20//NONSGML v1.0//EN
CALSCALE:GREGORIAN
METHOD:PUBLISH
X-ORIGINAL-URL:https://tanzsport-eberswalde.de
X-WR-CALDESC:Veranstaltungen für TSA &quot;Grün-Gold&quot;
REFRESH-INTERVAL;VALUE=DURATION:PT1H
X-Robots-Tag:noindex
X-PUBLISHED-TTL:PT1H
BEGIN:VTIMEZONE
TZID:Europe/Berlin
BEGIN:DAYLIGHT
TZOFFSETFROM:+0100
TZOFFSETTO:+0200
TZNAME:CEST
DTSTART:20240331T010000
END:DAYLIGHT
BEGIN:STANDARD
TZOFFSETFROM:+0200
TZOFFSETTO:+0100
TZNAME:CET
DTSTART:20241027T010000
END:STANDARD
BEGIN:DAYLIGHT
TZOFFSETFROM:+0100
TZOFFSETTO:+0200
TZNAME:CEST
DTSTART:20250330T010000
END:DAYLIGHT
BEGIN:STANDARD
TZOFFSETFROM:+0200
TZOFFSETTO:+0100
TZNAME:CET
DTSTART:20251026T010000
END:STANDARD
BEGIN:DAYLIGHT
TZOFFSETFROM:+0100
TZOFFSETTO:+0200
TZNAME:CEST
DTSTART:20260329T010000
END:DAYLIGHT
BEGIN:STANDARD
TZOFFSETFROM:+0200
TZOFFSETTO:+0100
TZNAME:CET
DTSTART:20261025T010000
END:STANDARD
END:VTIMEZONE
BEGIN:VEVENT
DTSTART;TZID=Europe/Berlin:20250215T150000
DTEND;TZID=Europe/Berlin:20250215T170000
DTSTAMP:20260425T175103
CREATED:20250105T094401Z
LAST-MODIFIED:20250105T094415Z
UID:2771-1739631600-1739638800@tanzsport-eberswalde.de
SUMMARY:Discofox-Nachmittag
DESCRIPTION:Anfän­ger \nZum Disco­fox sind auch sehr gerne “Nicht”-Mitglieder einge­la­den. Bitte an saube­res Schuh­werk denken!
URL:https://tanzsport-eberswalde.de/event/discofox-nachmittag-31/
LOCATION:Tanzsportzentrum\, Finowfurter Ring 41\, Schorfheide\, Brandenburg\, 16244\, Deutschland
END:VEVENT
BEGIN:VEVENT
DTSTART;TZID=Europe/Berlin:20250222T150000
DTEND;TZID=Europe/Berlin:20250222T170000
DTSTAMP:20260425T175103
CREATED:20250105T094503Z
LAST-MODIFIED:20250105T094503Z
UID:2774-1740236400-1740243600@tanzsport-eberswalde.de
SUMMARY:Discofox-Nachmittag
DESCRIPTION:Fort­ge­schrit­tene \nZum Disco­fox sind auch sehr gerne “Nicht”-Mitglieder einge­la­den. Bitte an saube­res Schuh­werk denken!
URL:https://tanzsport-eberswalde.de/event/discofox-nachmittag-32/
LOCATION:Tanzsportzentrum\, Finowfurter Ring 41\, Schorfheide\, Brandenburg\, 16244\, Deutschland
END:VEVENT
END:VCALENDAR