BEGIN:VCALENDAR
VERSION:2.0
PRODID:-//TSA &quot;Grün-Gold&quot; - ECPv6.15.20//NONSGML v1.0//EN
CALSCALE:GREGORIAN
METHOD:PUBLISH
X-ORIGINAL-URL:https://tanzsport-eberswalde.de
X-WR-CALDESC:Veranstaltungen für TSA &quot;Grün-Gold&quot;
REFRESH-INTERVAL;VALUE=DURATION:PT1H
X-Robots-Tag:noindex
X-PUBLISHED-TTL:PT1H
BEGIN:VTIMEZONE
TZID:Europe/Berlin
BEGIN:DAYLIGHT
TZOFFSETFROM:+0100
TZOFFSETTO:+0200
TZNAME:CEST
DTSTART:20250330T010000
END:DAYLIGHT
BEGIN:STANDARD
TZOFFSETFROM:+0200
TZOFFSETTO:+0100
TZNAME:CET
DTSTART:20251026T010000
END:STANDARD
BEGIN:DAYLIGHT
TZOFFSETFROM:+0100
TZOFFSETTO:+0200
TZNAME:CEST
DTSTART:20260329T010000
END:DAYLIGHT
BEGIN:STANDARD
TZOFFSETFROM:+0200
TZOFFSETTO:+0100
TZNAME:CET
DTSTART:20261025T010000
END:STANDARD
BEGIN:DAYLIGHT
TZOFFSETFROM:+0100
TZOFFSETTO:+0200
TZNAME:CEST
DTSTART:20270328T010000
END:DAYLIGHT
BEGIN:STANDARD
TZOFFSETFROM:+0200
TZOFFSETTO:+0100
TZNAME:CET
DTSTART:20271031T010000
END:STANDARD
END:VTIMEZONE
BEGIN:VEVENT
DTSTART;TZID=Europe/Berlin:20260117T100000
DTEND;TZID=Europe/Berlin:20260117T170000
DTSTAMP:20260423T010519
CREATED:20251213T174543Z
LAST-MODIFIED:20251213T174543Z
UID:2834-1768644000-1768669200@tanzsport-eberswalde.de
SUMMARY:Breitensport-Tanzwettbewerb
DESCRIPTION:
URL:https://tanzsport-eberswalde.de/event/breitensport-tanzwettbewerb-3/
LOCATION:Tanzsportzentrum\, Finowfurter Ring 41\, Schorfheide\, Brandenburg\, 16244\, Deutschland
END:VEVENT
END:VCALENDAR